BEGIN:VCALENDAR
VERSION:2.0
PRODID:-//Sabre//Sabre VObject 4.5.8//EN
CALSCALE:GREGORIAN
BEGIN:VEVENT
UID:sabre-vobject-38cb4b4e-8edd-4ead-b985-d55f0a86e795
DTSTAMP:20260420T102730Z
SUMMARY:Sammeln - Forschen - Bewahren
DESCRIPTION:https://infoterminal.neuburg-donau.de/sammeln-forschen-bewahren
 _id51466
DTSTART;TZID=Europe/Berlin:20260531T100000
DTEND;TZID=Europe/Berlin:20260531T180000
LOCATION:Stadtmuseum Neuburg an der Donau\, Amalienstraße  19\, 86633 Neub
 urg an der Donau
END:VEVENT
END:VCALENDAR
