BEGIN:VCALENDAR
VERSION:2.0
PRODID:-//Sabre//Sabre VObject 4.5.8//EN
CALSCALE:GREGORIAN
BEGIN:VEVENT
UID:sabre-vobject-94feac1f-ce99-4a40-a9bf-a7df7427fb30
DTSTAMP:20260420T134211Z
SUMMARY:Fake News: Desinformation erkennen
DESCRIPTION:https://infoterminal.neuburg-donau.de/fake-news-desinformation-
 erkennen_id51381
DTSTART;TZID=Europe/Berlin:20260520T080000
DTEND;TZID=Europe/Berlin:20260520T200000
LOCATION:Volkshochschule Neuburg e.V. (VHS)\, Franziskanerstraße B 200\, 8
 6633 Neuburg an der Donau
END:VEVENT
END:VCALENDAR
