BEGIN:VCALENDAR
VERSION:2.0
PRODID:-//Sabre//Sabre VObject 4.5.8//EN
CALSCALE:GREGORIAN
BEGIN:VEVENT
UID:sabre-vobject-73105dd5-e415-4c68-bba2-e896a306c989
DTSTAMP:20260423T113938Z
SUMMARY:Fake News: Desinformation erkennen
DESCRIPTION:https://infoterminal.neuburg-donau.de/fake-news-desinformation-
 erkennen_id51371
DTSTART;TZID=Europe/Berlin:20260714T080000
DTEND;TZID=Europe/Berlin:20260714T200000
LOCATION:Volkshochschule Neuburg e.V. (VHS)\, Franziskanerstraße B 200\, 8
 6633 Neuburg an der Donau
END:VEVENT
END:VCALENDAR
