BEGIN:VCALENDAR
VERSION:2.0
PRODID:-//Sabre//Sabre VObject 4.5.8//EN
CALSCALE:GREGORIAN
BEGIN:VEVENT
UID:sabre-vobject-bb544811-dc71-49d2-980c-6ab9faac8be0
DTSTAMP:20260423T100445Z
SUMMARY:Fake News: Desinformation erkennen
DESCRIPTION:https://infoterminal.neuburg-donau.de/fake-news-desinformation-
 erkennen_id51353
DTSTART;TZID=Europe/Berlin:20260713T080000
DTEND;TZID=Europe/Berlin:20260713T200000
LOCATION:Volkshochschule Neuburg e.V. (VHS)\, Franziskanerstraße B 200\, 8
 6633 Neuburg an der Donau
END:VEVENT
END:VCALENDAR
