BEGIN:VCALENDAR
VERSION:2.0
PRODID:-//Sabre//Sabre VObject 4.5.8//EN
CALSCALE:GREGORIAN
BEGIN:VEVENT
UID:sabre-vobject-7647e931-7e67-41fa-a822-04ac94919e2b
DTSTAMP:20260421T095341Z
SUMMARY:Fake News: Desinformation erkennen
DESCRIPTION:https://infoterminal.neuburg-donau.de/fake-news-desinformation-
 erkennen_id51334
DTSTART;TZID=Europe/Berlin:20260710T080000
DTEND;TZID=Europe/Berlin:20260710T200000
LOCATION:Volkshochschule Neuburg e.V. (VHS)\, Franziskanerstraße B 200\, 8
 6633 Neuburg an der Donau
END:VEVENT
END:VCALENDAR
