BEGIN:VCALENDAR
VERSION:2.0
PRODID:-//Sabre//Sabre VObject 4.5.8//EN
CALSCALE:GREGORIAN
BEGIN:VEVENT
UID:sabre-vobject-9d2a48d3-c9b3-4ba2-9702-44a16fcc131c
DTSTAMP:20260423T144236Z
SUMMARY:Fake News: Desinformation erkennen
DESCRIPTION:https://infoterminal.neuburg-donau.de/fake-news-desinformation-
 erkennen_id51316
DTSTART;TZID=Europe/Berlin:20260716T080000
DTEND;TZID=Europe/Berlin:20260716T200000
LOCATION:Volkshochschule Neuburg e.V. (VHS)\, Franziskanerstraße B 200\, 8
 6633 Neuburg an der Donau
END:VEVENT
END:VCALENDAR
