BEGIN:VCALENDAR
VERSION:2.0
PRODID:-//Sabre//Sabre VObject 4.5.8//EN
CALSCALE:GREGORIAN
BEGIN:VEVENT
UID:sabre-vobject-dc5fcd8a-eca1-4685-9447-a92db3607a5f
DTSTAMP:20260423T083520Z
SUMMARY:Benefizkonzert - a-cappella trifft saxtett
DESCRIPTION:https://infoterminal.neuburg-donau.de/benefizkonzert-a-cappella
 -trifft-saxtett_id50634
DTSTART;TZID=Europe/Berlin:20260201T190000
DTEND;TZID=Europe/Berlin:20260201T210000
LOCATION:Stadttheater\, Residenzstraße A67\, 86633 Neuburg an der Donau
END:VEVENT
END:VCALENDAR
