BEGIN:VCALENDAR
VERSION:2.0
PRODID:-//Sabre//Sabre VObject 4.5.8//EN
CALSCALE:GREGORIAN
BEGIN:VEVENT
UID:sabre-vobject-1450808d-db3c-4a43-af10-44bcc3222f8a
DTSTAMP:20260423T114116Z
SUMMARY:Wochenmarkt
DESCRIPTION:https://infoterminal.neuburg-donau.de/wochenmarkt_id49345
DTSTART;TZID=Europe/Berlin:20260530T063000
DTEND;TZID=Europe/Berlin:20260530T123000
LOCATION:Schrannenplatz\, Schrannenplatz\, 86633 Neuburg an der Donau
END:VEVENT
END:VCALENDAR
