BEGIN:VCALENDAR
VERSION:2.0
PRODID:-//Sabre//Sabre VObject 4.5.8//EN
CALSCALE:GREGORIAN
BEGIN:VEVENT
UID:sabre-vobject-888028a5-e871-4560-b893-d33e6c7889d4
DTSTAMP:20260419T162724Z
SUMMARY:Wochenmarkt
DESCRIPTION:https://infoterminal.neuburg-donau.de/wochenmarkt_id49343
DTSTART;TZID=Europe/Berlin:20260516T063000
DTEND;TZID=Europe/Berlin:20260516T123000
LOCATION:Schrannenplatz\, Schrannenplatz\, 86633 Neuburg an der Donau
END:VEVENT
END:VCALENDAR
