BEGIN:VCALENDAR
VERSION:2.0
PRODID:-//Sabre//Sabre VObject 4.5.8//EN
CALSCALE:GREGORIAN
BEGIN:VEVENT
UID:sabre-vobject-eb1be526-64dc-40c1-8f8d-f2ced02a4caf
DTSTAMP:20260423T100317Z
SUMMARY:Wochenmarkt
DESCRIPTION:https://infoterminal.neuburg-donau.de/wochenmarkt_id49292
DTSTART;TZID=Europe/Berlin:20260527T063000
DTEND;TZID=Europe/Berlin:20260527T123000
LOCATION:Schrannenplatz\, Schrannenplatz\, 86633 Neuburg an der Donau
END:VEVENT
END:VCALENDAR
