BEGIN:VCALENDAR
VERSION:2.0
PRODID:-//Sabre//Sabre VObject 4.5.8//EN
CALSCALE:GREGORIAN
BEGIN:VEVENT
UID:sabre-vobject-febd321d-9634-4f6d-8feb-2baef6ebf978
DTSTAMP:20260419T181231Z
SUMMARY:Wochenmarkt
DESCRIPTION:https://infoterminal.neuburg-donau.de/wochenmarkt_id49291
DTSTART;TZID=Europe/Berlin:20260520T063000
DTEND;TZID=Europe/Berlin:20260520T123000
LOCATION:Schrannenplatz\, Schrannenplatz\, 86633 Neuburg an der Donau
END:VEVENT
END:VCALENDAR
