BEGIN:VCALENDAR
VERSION:2.0
PRODID:-//Sabre//Sabre VObject 4.5.8//EN
CALSCALE:GREGORIAN
BEGIN:VEVENT
UID:sabre-vobject-c7b0979f-1d21-45d5-958f-e4c79ae69d91
DTSTAMP:20260423T085309Z
SUMMARY:Wochenmarkt
DESCRIPTION:https://infoterminal.neuburg-donau.de/wochenmarkt_id49289
DTSTART;TZID=Europe/Berlin:20260506T063000
DTEND;TZID=Europe/Berlin:20260506T123000
LOCATION:Schrannenplatz\, Schrannenplatz\, 86633 Neuburg an der Donau
END:VEVENT
END:VCALENDAR
