BEGIN:VCALENDAR
VERSION:2.0
PRODID:-//Sabre//Sabre VObject 4.5.8//EN
CALSCALE:GREGORIAN
BEGIN:VEVENT
UID:sabre-vobject-69fafc7e-9b2f-4be4-a680-df4be16a991b
DTSTAMP:20260423T083416Z
SUMMARY:Advent im Stadtmuseum
DESCRIPTION:https://infoterminal.neuburg-donau.de/advent-im-stadtmuseum_id4
 8103
DTSTART;TZID=Europe/Berlin:20251212T180000
DURATION:PT30M
LOCATION:Stadtmuseum Neuburg an der Donau\, Amalienstraße  19\, 86633 Neub
 urg an der Donau
END:VEVENT
END:VCALENDAR
