BEGIN:VCALENDAR
VERSION:2.0
PRODID:-//Sabre//Sabre VObject 4.5.8//EN
CALSCALE:GREGORIAN
BEGIN:VEVENT
UID:sabre-vobject-39bff991-edb5-413b-a765-85e69f1e19cc
DTSTAMP:20260423T100402Z
SUMMARY:Bücher gemeinsam entdecken - Vorlesen im Advent
DESCRIPTION:https://infoterminal.neuburg-donau.de/buecher-gemeinsam-entdeck
 en-vorlesen-im-advent_id47618
DTSTART;TZID=Europe/Berlin:20251210T090000
DTEND;TZID=Europe/Berlin:20251210T103000
LOCATION:Bürgerhaus Schwalbanger\, Richard-Wagner-Straße 6\, 86633 Neubur
 g an der Donau
END:VEVENT
END:VCALENDAR
